BEGIN:VCALENDAR
VERSION:2.0
PRODID:-//Lower Hume PCP - ECPv5.0.2.1//NONSGML v1.0//EN
CALSCALE:GREGORIAN
METHOD:PUBLISH
X-WR-CALNAME:Lower Hume PCP
X-ORIGINAL-URL:http://lhpcp.org.au
X-WR-CALDESC:Events for Lower Hume PCP
BEGIN:VTIMEZONE
TZID:Australia/Melbourne
BEGIN:STANDARD
TZOFFSETFROM:+1100
TZOFFSETTO:+1000
TZNAME:AEST
DTSTART:20190406T160000
END:STANDARD
BEGIN:DAYLIGHT
TZOFFSETFROM:+1000
TZOFFSETTO:+1100
TZNAME:AEDT
DTSTART:20191005T160000
END:DAYLIGHT
END:VTIMEZONE
BEGIN:VEVENT
DTSTART;TZID=Australia/Melbourne:20191108T000000
DTEND;TZID=Australia/Melbourne:20191108T000000
DTSTAMP:20200302T080057
CREATED:20191023T012027Z
LAST-MODIFIED:20191023T012027Z
UID:5609-1573171200-1573171200@lhpcp.org.au
SUMMARY:Out in the Open Festival
DESCRIPTION:Out in the Open Festival FLYER \n
URL:http://lhpcp.org.au/event/out-in-the-open-festival/
END:VEVENT
END:VCALENDAR