BEGIN:VCALENDAR
VERSION:2.0
PRODID:-//Lower Hume PCP - ECPv5.0.2.1//NONSGML v1.0//EN
CALSCALE:GREGORIAN
METHOD:PUBLISH
X-WR-CALNAME:Lower Hume PCP
X-ORIGINAL-URL:http://lhpcp.org.au
X-WR-CALDESC:Events for Lower Hume PCP
BEGIN:VTIMEZONE
TZID:Australia/Melbourne
BEGIN:STANDARD
TZOFFSETFROM:+1100
TZOFFSETTO:+1000
TZNAME:AEST
DTSTART:20190406T160000
END:STANDARD
BEGIN:DAYLIGHT
TZOFFSETFROM:+1000
TZOFFSETTO:+1100
TZNAME:AEDT
DTSTART:20191005T160000
END:DAYLIGHT
END:VTIMEZONE
BEGIN:VEVENT
DTSTART;TZID=Australia/Melbourne:20190911T100000
DTEND;TZID=Australia/Melbourne:20190911T110000
DTSTAMP:20200302T075429
CREATED:20190325T052916Z
LAST-MODIFIED:20190325T052916Z
UID:5333-1568196000-1568199600@lhpcp.org.au
SUMMARY:Parenting Information Sessions 2019 - Your Toddler and Sleep: Sleep & Settling
DESCRIPTION:Parenting Information Sessions 2019 FINAL \n
URL:http://lhpcp.org.au/event/parenting-information-sessions-2019-your-toddler-and-sleep-sleep-settling/
LOCATION:Greater Beveridge Community Centre\, Corner Lithgow and Mandalay Circuit\, Beveridge\, VIC\, Australia
CATEGORIES:External Event
END:VEVENT
END:VCALENDAR