BEGIN:VCALENDAR
VERSION:2.0
PRODID:-//Lower Hume PCP - ECPv5.0.2.1//NONSGML v1.0//EN
CALSCALE:GREGORIAN
METHOD:PUBLISH
X-WR-CALNAME:Lower Hume PCP
X-ORIGINAL-URL:http://lhpcp.org.au
X-WR-CALDESC:Events for Lower Hume PCP
BEGIN:VTIMEZONE
TZID:Australia/Melbourne
BEGIN:STANDARD
TZOFFSETFROM:+1100
TZOFFSETTO:+1000
TZNAME:AEST
DTSTART:20190406T160000
END:STANDARD
BEGIN:DAYLIGHT
TZOFFSETFROM:+1000
TZOFFSETTO:+1100
TZNAME:AEDT
DTSTART:20191005T160000
END:DAYLIGHT
END:VTIMEZONE
BEGIN:VEVENT
DTSTART;TZID=Australia/Melbourne:20191017T100000
DTEND;TZID=Australia/Melbourne:20191017T130000
DTSTAMP:20200302T075646
CREATED:20191007T012649Z
LAST-MODIFIED:20191007T012751Z
UID:5594-1571306400-1571317200@lhpcp.org.au
SUMMARY:Positive Ageing Expo at Wangaratta for Seniors Week
DESCRIPTION:Wangaratta Positive Ageing Expo 17 OCT 2019 POSTER \n
URL:http://lhpcp.org.au/event/positive-ageing-expo-at-wangaratta-for-seniors-week/
LOCATION:Wangaratta Regional Study Centre\, 218 Tone Road\, WANGARATTA\, Australia
CATEGORIES:External Event
END:VEVENT
END:VCALENDAR